BEGIN:VCALENDAR
VERSION:2.0
PRODID:-//Silver Strong &amp; Associates / Thoughtful Education Press - ECPv6.15.16//NONSGML v1.0//EN
CALSCALE:GREGORIAN
METHOD:PUBLISH
X-WR-CALNAME:Silver Strong &amp; Associates / Thoughtful Education Press
X-ORIGINAL-URL:https://thoughtfulclassroom.com
X-WR-CALDESC:Events for Silver Strong &amp; Associates / Thoughtful Education Press
REFRESH-INTERVAL;VALUE=DURATION:PT1H
X-Robots-Tag:noindex
X-PUBLISHED-TTL:PT1H
BEGIN:VTIMEZONE
TZID:America/New_York
BEGIN:DAYLIGHT
TZOFFSETFROM:-0500
TZOFFSETTO:-0400
TZNAME:EDT
DTSTART:20240310T070000
END:DAYLIGHT
BEGIN:STANDARD
TZOFFSETFROM:-0400
TZOFFSETTO:-0500
TZNAME:EST
DTSTART:20241103T060000
END:STANDARD
BEGIN:DAYLIGHT
TZOFFSETFROM:-0500
TZOFFSETTO:-0400
TZNAME:EDT
DTSTART:20250309T070000
END:DAYLIGHT
BEGIN:STANDARD
TZOFFSETFROM:-0400
TZOFFSETTO:-0500
TZNAME:EST
DTSTART:20251102T060000
END:STANDARD
BEGIN:DAYLIGHT
TZOFFSETFROM:-0500
TZOFFSETTO:-0400
TZNAME:EDT
DTSTART:20260308T070000
END:DAYLIGHT
BEGIN:STANDARD
TZOFFSETFROM:-0400
TZOFFSETTO:-0500
TZNAME:EST
DTSTART:20261101T060000
END:STANDARD
END:VTIMEZONE
BEGIN:VEVENT
DTSTART;TZID=America/New_York:20250612T150000
DTEND;TZID=America/New_York:20250612T153000
DTSTAMP:20260420T004028
CREATED:20250530T131347Z
LAST-MODIFIED:20250604T231315Z
UID:16576-1749740400-1749742200@thoughtfulclassroom.com
SUMMARY:The Way PD Should Be: A Conversation About What Works
DESCRIPTION:– FREE WEBINAR –\n			\n				\n				\n				\n				\n				A Free Webinar for School Educators and Leaders\n			\n				\n				\n				\n				\n				The Way PD Should Be: A Conversation About What Works\n			\n				\n				\n				\n				\n				THURSDAY \nJUNE 12 | 2025\n3:00 PM ET – 3:30 PM ET\n			\n				\n				\n				\n				\n				Are you looking for practical ideas on how to get more out of professional development? For ways to . . .  \n\nPersonalize professional learning to meet individual needs and team goals?\nPromote consistent improvement in classroom practice?\nRekindle your team’s passion for teaching?\nGet results\, build long-term capacity\, and spend less than typical professional development programs cost?\n\nJoin us for a lively conversation with two highly successful educators—Dr. Sharon Nepote and Suzanne Jarrard—who are using customized online professional learning suites to redefine professional development at the school and district level.  \nThe focus of this thirty-minute conversation will be on field-level practices in professional development and how successful schools and districts are shifting their approach to get more from their professional development budget.  \nSome questions Sharon and Suzanne will explore include: What are customized online suites\, and how do they improve professional learning? How are schools and districts using these suites to . . . \n\nSupport new teachers and expand the repertoires of veteran teachers?\nOvercome the challenge of competing priorities and focus the entire team on what matters most —classroom instruction?\nEnhance the work of instructional leaders and coaches?\nBuild a culture of shared leadership and collaborative improvement?\n\nDon’t miss this live 30-minute webinar with Q&A! \n			\n			\n				\n				\n				\n				\n			\n				\n				\n				\n				\n				\n				\n			\n				\n				\n				\n				\n				\n				REGISTER TODAY\n			\n			\n				\n				\n				\n				\n				\n			\n				\n				\n				\n				\n			\n				\n				\n				\n				\n				\n				\n				\n				\n				\n				\n				\n			\n			\n				\n				\n				\n				\n				\n				\n				\n				\n				\n				Dr. Sharon Nepote is an experienced educator and former principal who led the recent turnaround of a diverse elementary school south of Chicago. As a school leader and now as a Thoughtful Classroom coach\, Sharon focuses on promoting shared leadership and high-level collaboration among all staff to improve professional practice and student learning. \n			\n			\n				\n				\n				\n				\n			\n				\n				\n				\n				\n				\n				\n				\n				\n				\n				\n				\n			\n			\n				\n				\n				\n				\n				\n				\n				\n				\n				\n				Suzanne Jarrard has served as a teacher\, administrator\, and is currently the Assistant Superintendent for Teaching and Learning of a large county school district outside of Atlanta. Suzanne is guided by service to teachers and providing them with the support\, resources\, and PD they need to improve student learning. \n			\n			\n				\n				\n				\n				\n			\n				\n				\n				\n				\n				\n				\n				\n				\n				\n				\n				\n			\n			\n				\n				\n				\n				\n				\n				\n				\n				\n				\n				Moderated by Matthew PeriniSenior Director of Content Development for the Thoughtful Classroom \n			\n			\n				\n				\n				\n				\n			\n				\n				\n				\n				\n				\n				\n			\n				\n				\n				\n				\n				\n				REGISTER TODAY\n			\n			\n				\n				\n				\n				\n				\n			\n				\n				\n				\n				\n			\n				\n				\n				\n				\n				\n				\n				\n				\n				\n				\n				Ready to get started? \nContact us to learn more and set up a free consultation with Dr. Sharon Nepote or Suzanne Jarrard.
URL:https://thoughtfulclassroom.com/event/the-way-pd-should-be-a-conversation-about-what-works/
LOCATION:Online
CATEGORIES:Webinars
ATTACH;FMTTYPE=image/jpeg:https://thoughtfulclassroom.com/wp-content/uploads/2025/05/SSA563_01_2025-06-12_SN-JS_ThingsShouldBe.jpg
END:VEVENT
END:VCALENDAR