BEGIN:VCALENDAR
VERSION:2.0
PRODID:-//Silver Strong &amp; Associates / Thoughtful Education Press - ECPv6.15.16//NONSGML v1.0//EN
CALSCALE:GREGORIAN
METHOD:PUBLISH
X-ORIGINAL-URL:https://thoughtfulclassroom.com
X-WR-CALDESC:Events for Silver Strong &amp; Associates / Thoughtful Education Press
REFRESH-INTERVAL;VALUE=DURATION:PT1H
X-Robots-Tag:noindex
X-PUBLISHED-TTL:PT1H
BEGIN:VTIMEZONE
TZID:America/New_York
BEGIN:DAYLIGHT
TZOFFSETFROM:-0500
TZOFFSETTO:-0400
TZNAME:EDT
DTSTART:20240310T070000
END:DAYLIGHT
BEGIN:STANDARD
TZOFFSETFROM:-0400
TZOFFSETTO:-0500
TZNAME:EST
DTSTART:20241103T060000
END:STANDARD
BEGIN:DAYLIGHT
TZOFFSETFROM:-0500
TZOFFSETTO:-0400
TZNAME:EDT
DTSTART:20250309T070000
END:DAYLIGHT
BEGIN:STANDARD
TZOFFSETFROM:-0400
TZOFFSETTO:-0500
TZNAME:EST
DTSTART:20251102T060000
END:STANDARD
BEGIN:DAYLIGHT
TZOFFSETFROM:-0500
TZOFFSETTO:-0400
TZNAME:EDT
DTSTART:20260308T070000
END:DAYLIGHT
BEGIN:STANDARD
TZOFFSETFROM:-0400
TZOFFSETTO:-0500
TZNAME:EST
DTSTART:20261101T060000
END:STANDARD
END:VTIMEZONE
BEGIN:VEVENT
DTSTART;TZID=America/New_York:20251119T130000
DTEND;TZID=America/New_York:20251119T133000
DTSTAMP:20260419T151429
CREATED:20251117T170443Z
LAST-MODIFIED:20251117T170443Z
UID:17077-1763557200-1763559000@thoughtfulclassroom.com
SUMMARY:Using the Framework to Grow Classroom Practice
DESCRIPTION:– FREE WEBINAR –\n			\n				\n				\n				\n				\n				Using the Framework to Grow Classroom Practice\n			\n				\n				\n				\n				\n				WEDNESDAY \nNOVEMBER 19 | 2025\n1:00 PM – 1:30 PM EST\n			\n				\n				\n				\n				\n				The Thoughtful Classroom Teacher Effectiveness Framework has always put a premium on helping teachers grow and use practical tools to improve their practice. But many school and district leaders have asked: How do we ensure that our teachers understand the Framework and its value as a professional growth resource? \nThat’s why we are excited to introduce a new resource for teachers in Thoughtful Classroom schools and districts—Using the Framework to Grow Classroom Practice. \nThis online professional learning suite is designed to help teachers . . . \n\nExplore the Thoughtful Classroom Framework.\nBetter understand its elements and dimensions\, and how they support universal goals of high-quality teaching.\nLearn new tools and strategies that support their professional learning goals and align directly with the Framework.\n\nJoin this 30-minute webinar to learn how the new Using the Framework to Grow Classroom Practice suite can help all teachers get the most out of the Thoughtful Classroom Framework. \nLive Webinar with Q&A \n			\n			\n				\n				\n				\n				\n			\n				\n				\n				\n				\n				\n				\n				REGISTER TODAY
URL:https://thoughtfulclassroom.com/event/using-the-framework-to-grow-classroom-practice/
LOCATION:Online
CATEGORIES:Webinars
ATTACH;FMTTYPE=image/jpeg:https://thoughtfulclassroom.com/wp-content/uploads/2025/11/SSA563_01_2025-11-19_MP-FrameworkGrow.jpg
END:VEVENT
END:VCALENDAR